BEGIN:VCALENDAR
VERSION:2.0
PRODID:icalendar-ruby
CALSCALE:GREGORIAN
METHOD:PUBLISH
BEGIN:VEVENT
DTSTAMP:20260422T014137Z
UID:8-423591@stealeyumc.org
DTSTART:20261011T150000Z
DTEND:20261011T160000Z
CLASS:PUBLIC
CREATED:20260421T212313
DESCRIPTION:There is a Time of Gathering and Fellowship at 10:45 AM between
  Sunday School and Sunday Worship. \nWorship then begins at 11 AM. 
LAST-MODIFIED:20260421T212313
LOCATION:Stealey UMC
SUMMARY:Sunday Worship
URL;VALUE=URI:https://www.stealeyumc.org/events/sunday-worship/2026-10-11
ATTACH;FILENAME=Altar and Cross.jpg;FMTTYPE=image/jpeg:https://dq5pwpg1q8ru
 0.cloudfront.net/2025/01/30/03/16/08/7a66ea3c-79b2-4697-9fa0-9d26d23ce1fe/
 Altar%20and%20Cross.jpg
ATTACH;FILENAME=Stealey drawing.jpg;FMTTYPE=image/jpeg:https://dq5pwpg1q8ru
 0.cloudfront.net/2025/01/30/03/20/16/e8e01297-6c13-4257-8d91-4bc2bcc22a9b/
 Stealey%20drawing.jpg
ATTACH;FILENAME=All Saints.jpg;FMTTYPE=image/jpeg:https://dq5pwpg1q8ru0.clo
 udfront.net/2025/01/30/03/20/16/711d9c45-47a4-4156-9b9e-03ce2481382a/All%2
 0Saints.jpg
END:VEVENT
END:VCALENDAR
