BEGIN:VCALENDAR
VERSION:2.0
PRODID:icalendar-ruby
CALSCALE:GREGORIAN
METHOD:PUBLISH
BEGIN:VEVENT
DTSTAMP:20260424T032003Z
UID:26-427638@stealeyumc.org
DTSTART:20261005T130000Z
DTEND:20261005T140000Z
CLASS:PUBLIC
CREATED:20260423T230322
DESCRIPTION:Sewing Task Force
LAST-MODIFIED:20260423T230322
LOCATION:Sewing Room
SUMMARY:Sewing Task Force
URL;VALUE=URI:https://www.stealeyumc.org/events/sewing-task-force/2026-10-0
 5
END:VEVENT
END:VCALENDAR
