BEGIN:VCALENDAR
VERSION:2.0
PRODID:icalendar-ruby
CALSCALE:GREGORIAN
METHOD:PUBLISH
BEGIN:VEVENT
DTSTAMP:20260424T004714Z
UID:26-427305@stealeyumc.org
DTSTART:20260921T130000Z
DTEND:20260921T140000Z
CLASS:PUBLIC
CREATED:20260423T200852
DESCRIPTION:Sewing Task Force
LAST-MODIFIED:20260423T200852
LOCATION:Sewing Room
SUMMARY:Sewing Task Force
URL;VALUE=URI:https://www.stealeyumc.org/events/sewing-task-force/2026-09-2
 1
END:VEVENT
END:VCALENDAR
