BEGIN:VCALENDAR
VERSION:2.0
PRODID:icalendar-ruby
CALSCALE:GREGORIAN
METHOD:PUBLISH
BEGIN:VEVENT
DTSTAMP:20260423T221724Z
UID:26-426972@stealeyumc.org
DTSTART:20260907T130000Z
DTEND:20260907T140000Z
CLASS:PUBLIC
CREATED:20260423T171536
DESCRIPTION:Sewing Task Force
LAST-MODIFIED:20260423T171536
LOCATION:Sewing Room
SUMMARY:Sewing Task Force
URL;VALUE=URI:https://www.stealeyumc.org/events/sewing-task-force/2026-09-0
 7
END:VEVENT
END:VCALENDAR
