BEGIN:VCALENDAR
VERSION:2.0
PRODID:icalendar-ruby
CALSCALE:GREGORIAN
METHOD:PUBLISH
BEGIN:VEVENT
DTSTAMP:20260423T182908Z
UID:26-426638@stealeyumc.org
DTSTART:20260817T130000Z
DTEND:20260817T140000Z
CLASS:PUBLIC
CREATED:20260423T142046
DESCRIPTION:Sewing Task Force
LAST-MODIFIED:20260423T142046
LOCATION:Sewing Room
SUMMARY:Sewing Task Force
URL;VALUE=URI:https://www.stealeyumc.org/events/sewing-task-force/2026-08-1
 7
END:VEVENT
END:VCALENDAR
