BEGIN:VCALENDAR
VERSION:2.0
PRODID:icalendar-ruby
CALSCALE:GREGORIAN
METHOD:PUBLISH
BEGIN:VEVENT
DTSTAMP:20260423T153234Z
UID:26-426305@stealeyumc.org
DTSTART:20260803T130000Z
DTEND:20260803T140000Z
CLASS:PUBLIC
CREATED:20260423T112408
DESCRIPTION:Sewing Task Force
LAST-MODIFIED:20260423T112408
LOCATION:Sewing Room
SUMMARY:Sewing Task Force
URL;VALUE=URI:https://www.stealeyumc.org/events/sewing-task-force/2026-08-0
 3
END:VEVENT
END:VCALENDAR
