BEGIN:VCALENDAR
VERSION:2.0
PRODID:icalendar-ruby
CALSCALE:GREGORIAN
METHOD:PUBLISH
BEGIN:VEVENT
DTSTAMP:20260423T141944Z
UID:26-425973@stealeyumc.org
DTSTART:20260727T130000Z
DTEND:20260727T140000Z
CLASS:PUBLIC
CREATED:20260423T083139
DESCRIPTION:Sewing Task Force
LAST-MODIFIED:20260423T083139
LOCATION:Sewing Room
SUMMARY:Sewing Task Force
URL;VALUE=URI:https://www.stealeyumc.org/events/sewing-task-force/2026-07-2
 7
END:VEVENT
END:VCALENDAR
