BEGIN:VCALENDAR
VERSION:2.0
PRODID:icalendar-ruby
CALSCALE:GREGORIAN
METHOD:PUBLISH
BEGIN:VEVENT
DTSTAMP:20260423T125124Z
UID:26-425972@stealeyumc.org
DTSTART:20260720T130000Z
DTEND:20260720T140000Z
CLASS:PUBLIC
CREATED:20260423T083139
DESCRIPTION:Sewing Task Force
LAST-MODIFIED:20260423T083139
LOCATION:Sewing Room
SUMMARY:Sewing Task Force
URL;VALUE=URI:https://www.stealeyumc.org/events/sewing-task-force/2026-07-2
 0
END:VEVENT
END:VCALENDAR
