BEGIN:VCALENDAR
VERSION:2.0
PRODID:icalendar-ruby
CALSCALE:GREGORIAN
METHOD:PUBLISH
BEGIN:VEVENT
DTSTAMP:20260423T113517Z
UID:26-425640@stealeyumc.org
DTSTART:20260713T130000Z
DTEND:20260713T140000Z
CLASS:PUBLIC
CREATED:20260422T230123
DESCRIPTION:Sewing Task Force
LAST-MODIFIED:20260422T230123
LOCATION:Sewing Room
SUMMARY:Sewing Task Force
URL;VALUE=URI:https://www.stealeyumc.org/events/sewing-task-force/2026-07-1
 3
END:VEVENT
END:VCALENDAR
