BEGIN:VCALENDAR
VERSION:2.0
PRODID:icalendar-ruby
CALSCALE:GREGORIAN
METHOD:PUBLISH
BEGIN:VEVENT
DTSTAMP:20260423T101001Z
UID:26-425639@stealeyumc.org
DTSTART:20260706T130000Z
DTEND:20260706T140000Z
CLASS:PUBLIC
CREATED:20260422T230123
DESCRIPTION:Sewing Task Force
LAST-MODIFIED:20260422T230123
LOCATION:Sewing Room
SUMMARY:Sewing Task Force
URL;VALUE=URI:https://www.stealeyumc.org/events/sewing-task-force/2026-07-0
 6
END:VEVENT
END:VCALENDAR
