BEGIN:VCALENDAR
VERSION:2.0
PRODID:icalendar-ruby
CALSCALE:GREGORIAN
METHOD:PUBLISH
BEGIN:VEVENT
DTSTAMP:20260421T212713Z
UID:26-422974@stealeyumc.org
DTSTART:20260629T130000Z
DTEND:20260629T140000Z
CLASS:PUBLIC
CREATED:20260421T160616
DESCRIPTION:Sewing Task Force
LAST-MODIFIED:20260421T160616
LOCATION:Sewing Room
SUMMARY:Sewing Task Force
URL;VALUE=URI:https://www.stealeyumc.org/events/sewing-task-force/2026-06-2
 9
END:VEVENT
END:VCALENDAR
