BEGIN:VCALENDAR
VERSION:2.0
PRODID:icalendar-ruby
CALSCALE:GREGORIAN
METHOD:PUBLISH
BEGIN:VEVENT
DTSTAMP:20260421T182144Z
UID:26-422641@stealeyumc.org
DTSTART:20260615T130000Z
DTEND:20260615T140000Z
CLASS:PUBLIC
CREATED:20260421T133024
DESCRIPTION:Sewing Task Force
LAST-MODIFIED:20260421T133024
LOCATION:Sewing Room
SUMMARY:Sewing Task Force
URL;VALUE=URI:https://www.stealeyumc.org/events/sewing-task-force/2026-06-1
 5
END:VEVENT
END:VCALENDAR
