BEGIN:VCALENDAR
VERSION:2.0
PRODID:icalendar-ruby
CALSCALE:GREGORIAN
METHOD:PUBLISH
BEGIN:VEVENT
DTSTAMP:20260421T163946Z
UID:26-422309@stealeyumc.org
DTSTART:20260608T130000Z
DTEND:20260608T140000Z
CLASS:PUBLIC
CREATED:20260421T105009
DESCRIPTION:Sewing Task Force
LAST-MODIFIED:20260421T105009
LOCATION:Sewing Room
SUMMARY:Sewing Task Force
URL;VALUE=URI:https://www.stealeyumc.org/events/sewing-task-force/2026-06-0
 8
END:VEVENT
END:VCALENDAR
