BEGIN:VCALENDAR
VERSION:2.0
PRODID:icalendar-ruby
CALSCALE:GREGORIAN
METHOD:PUBLISH
BEGIN:VEVENT
DTSTAMP:20260420T182059Z
UID:26-420657@stealeyumc.org
DTSTART:20260525T130000Z
DTEND:20260525T140000Z
CLASS:PUBLIC
CREATED:20260420T132221
DESCRIPTION:Sewing Task Force
LAST-MODIFIED:20260420T132221
LOCATION:Sewing Room
SUMMARY:Sewing Task Force
URL;VALUE=URI:https://www.stealeyumc.org/events/sewing-task-force/2026-05-2
 5
END:VEVENT
END:VCALENDAR
