BEGIN:VCALENDAR
VERSION:2.0
PRODID:icalendar-ruby
CALSCALE:GREGORIAN
METHOD:PUBLISH
BEGIN:VEVENT
DTSTAMP:20260420T162705Z
UID:26-420326@stealeyumc.org
DTSTART:20260518T130000Z
DTEND:20260518T140000Z
CLASS:PUBLIC
CREATED:20260420T104812
DESCRIPTION:Sewing Task Force
LAST-MODIFIED:20260420T104812
LOCATION:Sewing Room
SUMMARY:Sewing Task Force
URL;VALUE=URI:https://www.stealeyumc.org/events/sewing-task-force/2026-05-1
 8
END:VEVENT
END:VCALENDAR
